BEGIN:VCALENDAR
VERSION:2.0
PRODID:SchoolNow
CALSCALE:GREGORIAN
BEGIN:VEVENT
UID:9213cbb8-365d-11f0-9e8f-0a58a9feac02
DTSTAMP:20251121T133521Z
SUMMARY:Regular Board Meeting
URL;VALUE=URI:https://www.canastotacsd.org/calendar/8175654/regular-board-m
 eeting
DTSTART:20250812T223000Z
DTEND:20250812T233000Z
END:VEVENT
END:VCALENDAR
