BEGIN:VCALENDAR
VERSION:2.0
PRODID:SchoolNow
CALSCALE:GREGORIAN
BEGIN:VEVENT
UID:9213ccee-365d-11f0-9f53-0a58a9feac02
DTSTAMP:20251121T133521Z
SUMMARY:Regular Board Meeting
URL;VALUE=URI:https://www.canastotacsd.org/calendar/8175655/regular-board-m
 eeting
DTSTART:20250909T223000Z
DTEND:20250909T233000Z
END:VEVENT
END:VCALENDAR
