BEGIN:VCALENDAR
VERSION:2.0
PRODID:SchoolNow
CALSCALE:GREGORIAN
BEGIN:VEVENT
UID:9213cdf2-365d-11f0-a246-0a58a9feac02
DTSTAMP:20251121T133521Z
SUMMARY:Regular Board Meeting
URL;VALUE=URI:https://www.canastotacsd.org/calendar/8175656/regular-board-m
 eeting
DTSTART:20251014T223000Z
DTEND:20251014T233000Z
END:VEVENT
END:VCALENDAR
