BEGIN:VCALENDAR
VERSION:2.0
PRODID:SchoolNow
CALSCALE:GREGORIAN
BEGIN:VEVENT
UID:11311932-625a-11f0-addb-0a58a9feac02
DTSTAMP:20260419T133009Z
SUMMARY:Kindergarten Cap & Gown Photos
URL;VALUE=URI:https://www.canastotacsd.org/calendar/8419898/kindergarten-ca
 p-gown-photos
DTSTART;VALUE=DATE:20260514
DTEND;VALUE=DATE:20260515
END:VEVENT
END:VCALENDAR
