BEGIN:VCALENDAR
VERSION:2.0
PRODID:SchoolNow
CALSCALE:GREGORIAN
BEGIN:VEVENT
UID:11311db0-625a-11f0-98ff-0a58a9feac02
DTSTAMP:20260419T133009Z
SUMMARY:Math 3-8 State Testing
URL;VALUE=URI:https://www.canastotacsd.org/calendar/8419903/math-3-8-state-
 testing
DTSTART;VALUE=DATE:20260505
DTEND;VALUE=DATE:20260507
END:VEVENT
END:VCALENDAR
