BEGIN:VCALENDAR
VERSION:2.0
PRODID:SchoolNow
CALSCALE:GREGORIAN
BEGIN:VEVENT
UID:11311e96-625a-11f0-8502-0a58a9feac02
DTSTAMP:20260419T133009Z
SUMMARY:Science 5\, 8 State Testing
URL;VALUE=URI:https://www.canastotacsd.org/calendar/8419904/science-5-8-sta
 te-testing
DTSTART;VALUE=DATE:20260512
DTEND;VALUE=DATE:20260513
END:VEVENT
END:VCALENDAR
