BEGIN:VCALENDAR
VERSION:2.0
PRODID:SchoolNow
CALSCALE:GREGORIAN
BEGIN:VEVENT
UID:65208d6e-62a2-11f0-a155-0202111ca0c9
DTSTAMP:20260419T133009Z
SUMMARY:Mid-Marking Period 4 Ends
URL;VALUE=URI:https://www.canastotacsd.org/calendar/8421908/mid-marking-per
 iod-4-ends
DTSTART;VALUE=DATE:20260515
DTEND;VALUE=DATE:20260516
END:VEVENT
END:VCALENDAR
