BEGIN:VCALENDAR
VERSION:2.0
PRODID:SchoolNow
CALSCALE:GREGORIAN
BEGIN:VEVENT
UID:65208eea-62a2-11f0-a265-0202111ca0c9
DTSTAMP:20260419T133009Z
SUMMARY:Marking Period 4 Ends
URL;VALUE=URI:https://www.canastotacsd.org/calendar/8421909/marking-period-
 4-ends
DTSTART;VALUE=DATE:20260612
DTEND;VALUE=DATE:20260613
END:VEVENT
END:VCALENDAR
