BEGIN:VCALENDAR
VERSION:2.0
PRODID:SchoolNow
CALSCALE:GREGORIAN
BEGIN:VEVENT
UID:b0841b5c-672c-11f0-b406-0affd268b983
DTSTAMP:20260419T133009Z
SUMMARY:K-8 Parent/Teacher Conferences/Early Dismissal
URL;VALUE=URI:https://www.canastotacsd.org/calendar/8438246/k-8-parent-teac
 her-conferences-early-dismissal
DTSTART;VALUE=DATE:20260319
DTEND;VALUE=DATE:20260320
END:VEVENT
END:VCALENDAR
