BEGIN:VCALENDAR
VERSION:2.0
PRODID:SchoolNow
CALSCALE:GREGORIAN
BEGIN:VEVENT
UID:b0842066-672c-11f0-928f-0affd268b983
DTSTAMP:20260419T133009Z
SUMMARY:Kindergarten Graduation
LOCATION:RSMS Auditorium
URL;VALUE=URI:https://www.canastotacsd.org/calendar/8438250/kindergarten-gr
 aduation
DTSTART:20260618T170000Z
DTEND:20260618T173000Z
END:VEVENT
END:VCALENDAR
