BEGIN:VCALENDAR
VERSION:2.0
PRODID:SchoolNow
CALSCALE:GREGORIAN
BEGIN:VEVENT
UID:eadbc40c-6890-11f0-81f9-0a58a9feac02
DTSTAMP:20251121T133521Z
SUMMARY:4th Annual Canastota Community Cookout
LOCATION:Canastota High School - Softball Field(s)
URL;VALUE=URI:https://www.canastotacsd.org/calendar/8442721/4th-annual-cana
 stota-community-cookout
DTSTART:20250807T220000Z
DTEND:20250808T000000Z
END:VEVENT
END:VCALENDAR
