BEGIN:VCALENDAR
VERSION:2.0
PRODID:SchoolNow
CALSCALE:GREGORIAN
BEGIN:VEVENT
UID:0c44615e-73b7-11f0-a062-02ee2af05cff
DTSTAMP:20260419T133009Z
SUMMARY:High School Musical Auditions
URL;VALUE=URI:https://www.canastotacsd.org/calendar/8479991/high-school-mus
 ical-auditions
DTSTART:20260107T200000Z
DTEND:20260107T230000Z
END:VEVENT
END:VCALENDAR
