BEGIN:VCALENDAR
VERSION:2.0
PRODID:SchoolNow
CALSCALE:GREGORIAN
BEGIN:VEVENT
UID:0c446320-73b7-11f0-874d-02ee2af05cff
DTSTAMP:20260419T193509Z
SUMMARY:Winter Recess - NO SCHOOL
URL;VALUE=URI:https://www.canastotacsd.org/calendar/8479993/winter-recess-n
 o-school
DTSTART;VALUE=DATE:20251222
DTEND;VALUE=DATE:20251227
END:VEVENT
END:VCALENDAR
