BEGIN:VCALENDAR
VERSION:2.0
PRODID:SchoolNow
CALSCALE:GREGORIAN
BEGIN:VEVENT
UID:0c44641a-73b7-11f0-9f7e-02ee2af05cff
DTSTAMP:20260419T133009Z
SUMMARY:Winter Recess - NO SCHOOL
URL;VALUE=URI:https://www.canastotacsd.org/calendar/8479994/winter-recess-n
 o-school
DTSTART;VALUE=DATE:20251229
DTEND;VALUE=DATE:20260103
END:VEVENT
END:VCALENDAR
