BEGIN:VCALENDAR
VERSION:2.0
PRODID:SchoolNow
CALSCALE:GREGORIAN
BEGIN:VEVENT
UID:0c4464f6-73b7-11f0-80b5-02ee2af05cff
DTSTAMP:20260419T133009Z
SUMMARY:Modified Basketball Starts
URL;VALUE=URI:https://www.canastotacsd.org/calendar/8479995/modified-basket
 ball-starts
DTSTART;VALUE=DATE:20260105
DTEND;VALUE=DATE:20260106
END:VEVENT
END:VCALENDAR
