BEGIN:VCALENDAR
VERSION:2.0
PRODID:SchoolNow
CALSCALE:GREGORIAN
BEGIN:VEVENT
UID:0c4465d2-73b7-11f0-99ab-02ee2af05cff
DTSTAMP:20260419T133009Z
SUMMARY:Mathletics
URL;VALUE=URI:https://www.canastotacsd.org/calendar/8479996/mathletics
DTSTART;VALUE=DATE:20260110
DTEND;VALUE=DATE:20260111
END:VEVENT
END:VCALENDAR
