BEGIN:VCALENDAR
VERSION:2.0
PRODID:SchoolNow
CALSCALE:GREGORIAN
BEGIN:VEVENT
UID:0c4466ae-73b7-11f0-a83e-02ee2af05cff
DTSTAMP:20260419T133009Z
SUMMARY:Regular Board Meeting
URL;VALUE=URI:https://www.canastotacsd.org/calendar/8479997/regular-board-m
 eeting
DTSTART:20260113T233000Z
DTEND:20260114T003000Z
END:VEVENT
END:VCALENDAR
