BEGIN:VCALENDAR
VERSION:2.0
PRODID:SchoolNow
CALSCALE:GREGORIAN
BEGIN:VEVENT
UID:0c446866-73b7-11f0-96ae-02ee2af05cff
DTSTAMP:20260419T133009Z
SUMMARY:CCS Pantry Restock
URL;VALUE=URI:https://www.canastotacsd.org/calendar/8479999/ccs-pantry-rest
 ock
DTSTART:20260115T223000Z
DTEND:20260115T233000Z
END:VEVENT
END:VCALENDAR
