BEGIN:VCALENDAR
VERSION:2.0
PRODID:SchoolNow
CALSCALE:GREGORIAN
BEGIN:VEVENT
UID:0c446a28-73b7-11f0-b8eb-02ee2af05cff
DTSTAMP:20260419T133009Z
SUMMARY:Winter All-County Festival @ Chittenango
URL;VALUE=URI:https://www.canastotacsd.org/calendar/8480001/winter-all-coun
 ty-festival-chittenango
DTSTART;VALUE=DATE:20260117
DTEND;VALUE=DATE:20260118
END:VEVENT
END:VCALENDAR
