BEGIN:VCALENDAR
VERSION:2.0
PRODID:SchoolNow
CALSCALE:GREGORIAN
BEGIN:VEVENT
UID:0c446b04-73b7-11f0-89b8-02ee2af05cff
DTSTAMP:20260419T133009Z
SUMMARY:Dr. Martin Luther King Day - NO SCHOOL
URL;VALUE=URI:https://www.canastotacsd.org/calendar/8480002/dr-martin-luthe
 r-king-day-no-school
DTSTART;VALUE=DATE:20260119
DTEND;VALUE=DATE:20260120
END:VEVENT
END:VCALENDAR
