BEGIN:VCALENDAR
VERSION:2.0
PRODID:SchoolNow
CALSCALE:GREGORIAN
BEGIN:VEVENT
UID:0c446be0-73b7-11f0-9a51-02ee2af05cff
DTSTAMP:20260419T133009Z
SUMMARY:NO SCHOOL FOR GRADES 9-12 (Regents)
URL;VALUE=URI:https://www.canastotacsd.org/calendar/8480003/no-school-for-g
 rades-9-12-regents
DTSTART;VALUE=DATE:20260120
DTEND;VALUE=DATE:20260121
END:VEVENT
END:VCALENDAR
