BEGIN:VCALENDAR
VERSION:2.0
PRODID:SchoolNow
CALSCALE:GREGORIAN
BEGIN:VEVENT
UID:0c446d0c-73b7-11f0-abef-02ee2af05cff
DTSTAMP:20260419T133009Z
SUMMARY:Regents Exams
URL;VALUE=URI:https://www.canastotacsd.org/calendar/8480004/regents-exams
DTSTART;VALUE=DATE:20260120
DTEND;VALUE=DATE:20260124
END:VEVENT
END:VCALENDAR
