BEGIN:VCALENDAR
VERSION:2.0
PRODID:SchoolNow
CALSCALE:GREGORIAN
BEGIN:VEVENT
UID:0c446df2-73b7-11f0-9d89-02ee2af05cff
DTSTAMP:20260419T133009Z
SUMMARY:Middle School NYSSMA Area All-State @ Camden
URL;VALUE=URI:https://www.canastotacsd.org/calendar/8480005/middle-school-n
 yssma-area-all-state-camden
DTSTART;VALUE=DATE:20260130
DTEND;VALUE=DATE:20260131
END:VEVENT
END:VCALENDAR
