BEGIN:VCALENDAR
VERSION:2.0
PRODID:SchoolNow
CALSCALE:GREGORIAN
BEGIN:VEVENT
UID:0c446ed8-73b7-11f0-a8a5-02ee2af05cff
DTSTAMP:20260419T133009Z
SUMMARY:Middle School NYSSMA Area All-State @ Camden
URL;VALUE=URI:https://www.canastotacsd.org/calendar/8480006/middle-school-n
 yssma-area-all-state-camden
DTSTART;VALUE=DATE:20260131
DTEND;VALUE=DATE:20260201
END:VEVENT
END:VCALENDAR
