BEGIN:VCALENDAR
VERSION:2.0
PRODID:SchoolNow
CALSCALE:GREGORIAN
BEGIN:VEVENT
UID:0c446fb4-73b7-11f0-bf4a-02ee2af05cff
DTSTAMP:20260419T133009Z
SUMMARY:Groundhog Day
URL;VALUE=URI:https://www.canastotacsd.org/calendar/8480007/groundhog-day
DTSTART;VALUE=DATE:20260202
DTEND;VALUE=DATE:20260203
END:VEVENT
END:VCALENDAR
