BEGIN:VCALENDAR
VERSION:2.0
PRODID:SchoolNow
CALSCALE:GREGORIAN
BEGIN:VEVENT
UID:0c8828da-73b7-11f0-95e4-02ee2af05cff
DTSTAMP:20260419T133009Z
SUMMARY:Mathletics - Hamilton
URL;VALUE=URI:https://www.canastotacsd.org/calendar/8480008/mathletics-hami
 lton
DTSTART;VALUE=DATE:20260207
DTEND;VALUE=DATE:20260208
END:VEVENT
END:VCALENDAR
