BEGIN:VCALENDAR
VERSION:2.0
PRODID:SchoolNow
CALSCALE:GREGORIAN
BEGIN:VEVENT
UID:0c882d08-73b7-11f0-b224-02ee2af05cff
DTSTAMP:20260419T133009Z
SUMMARY:Regular Board Meeting
URL;VALUE=URI:https://www.canastotacsd.org/calendar/8480009/regular-board-m
 eeting
DTSTART:20260210T233000Z
DTEND:20260211T003000Z
END:VEVENT
END:VCALENDAR
