BEGIN:VCALENDAR
VERSION:2.0
PRODID:SchoolNow
CALSCALE:GREGORIAN
BEGIN:VEVENT
UID:0c882e52-73b7-11f0-a5e8-02ee2af05cff
DTSTAMP:20260419T133009Z
SUMMARY:CCS Pantry Restock
URL;VALUE=URI:https://www.canastotacsd.org/calendar/8480010/ccs-pantry-rest
 ock
DTSTART:20260211T220000Z
DTEND:20260211T230000Z
END:VEVENT
END:VCALENDAR
