BEGIN:VCALENDAR
VERSION:2.0
PRODID:SchoolNow
CALSCALE:GREGORIAN
BEGIN:VEVENT
UID:0c882f60-73b7-11f0-a5e9-02ee2af05cff
DTSTAMP:20260419T133009Z
SUMMARY:Valentine's Day
URL;VALUE=URI:https://www.canastotacsd.org/calendar/8480011/valentines-day
DTSTART;VALUE=DATE:20260214
DTEND;VALUE=DATE:20260215
END:VEVENT
END:VCALENDAR
