BEGIN:VCALENDAR
VERSION:2.0
PRODID:SchoolNow
CALSCALE:GREGORIAN
BEGIN:VEVENT
UID:0c883064-73b7-11f0-bf0a-02ee2af05cff
DTSTAMP:20260419T133009Z
SUMMARY:ACT
URL;VALUE=URI:https://www.canastotacsd.org/calendar/8480012/act
DTSTART;VALUE=DATE:20260214
DTEND;VALUE=DATE:20260215
END:VEVENT
END:VCALENDAR
