BEGIN:VCALENDAR
VERSION:2.0
PRODID:SchoolNow
CALSCALE:GREGORIAN
BEGIN:VEVENT
UID:0c883154-73b7-11f0-82cb-02ee2af05cff
DTSTAMP:20260419T133009Z
SUMMARY:President's Day
URL;VALUE=URI:https://www.canastotacsd.org/calendar/8480013/presidents-day
DTSTART;VALUE=DATE:20260216
DTEND;VALUE=DATE:20260217
END:VEVENT
END:VCALENDAR
