BEGIN:VCALENDAR
VERSION:2.0
PRODID:SchoolNow
CALSCALE:GREGORIAN
BEGIN:VEVENT
UID:0c88323a-73b7-11f0-8771-02ee2af05cff
DTSTAMP:20260419T133009Z
SUMMARY:Lunar New Year
URL;VALUE=URI:https://www.canastotacsd.org/calendar/8480014/lunar-new-year
DTSTART;VALUE=DATE:20260217
DTEND;VALUE=DATE:20260218
END:VEVENT
END:VCALENDAR
