BEGIN:VCALENDAR
VERSION:2.0
PRODID:SchoolNow
CALSCALE:GREGORIAN
BEGIN:VEVENT
UID:0c883320-73b7-11f0-a2ca-02ee2af05cff
DTSTAMP:20260419T133009Z
SUMMARY:Mid-Winter Recess - NO SCHOOL
URL;VALUE=URI:https://www.canastotacsd.org/calendar/8480015/mid-winter-rece
 ss-no-school
DTSTART;VALUE=DATE:20260216
DTEND;VALUE=DATE:20260221
END:VEVENT
END:VCALENDAR
