BEGIN:VCALENDAR
VERSION:2.0
PRODID:SchoolNow
CALSCALE:GREGORIAN
BEGIN:VEVENT
UID:0c883406-73b7-11f0-a79d-02ee2af05cff
DTSTAMP:20260419T133009Z
SUMMARY:Mathletics - SNOW DATE
URL;VALUE=URI:https://www.canastotacsd.org/calendar/8480016/mathletics-snow
 -date
DTSTART;VALUE=DATE:20260228
DTEND;VALUE=DATE:20260301
END:VEVENT
END:VCALENDAR
