BEGIN:VCALENDAR
VERSION:2.0
PRODID:SchoolNow
CALSCALE:GREGORIAN
BEGIN:VEVENT
UID:0c8834ec-73b7-11f0-83fc-02ee2af05cff
DTSTAMP:20260419T133009Z
SUMMARY:Daylight Savings Begins
URL;VALUE=URI:https://www.canastotacsd.org/calendar/8480017/daylight-saving
 s-begins
DTSTART;VALUE=DATE:20260308
DTEND;VALUE=DATE:20260309
END:VEVENT
END:VCALENDAR
