BEGIN:VCALENDAR
VERSION:2.0
PRODID:SchoolNow
CALSCALE:GREGORIAN
BEGIN:VEVENT
UID:0c8835d2-73b7-11f0-9033-02ee2af05cff
DTSTAMP:20260419T133009Z
SUMMARY:JV & Varsity Spring Sports Start
URL;VALUE=URI:https://www.canastotacsd.org/calendar/8480018/jv-varsity-spri
 ng-sports-start
DTSTART;VALUE=DATE:20260309
DTEND;VALUE=DATE:20260310
END:VEVENT
END:VCALENDAR
