BEGIN:VCALENDAR
VERSION:2.0
PRODID:SchoolNow
CALSCALE:GREGORIAN
BEGIN:VEVENT
UID:0c8836ae-73b7-11f0-bcc7-02ee2af05cff
DTSTAMP:20260419T133009Z
SUMMARY:Regular Board Meeting
URL;VALUE=URI:https://www.canastotacsd.org/calendar/8480019/regular-board-m
 eeting
DTSTART:20260310T223000Z
DTEND:20260310T233000Z
END:VEVENT
END:VCALENDAR
