BEGIN:VCALENDAR
VERSION:2.0
PRODID:SchoolNow
CALSCALE:GREGORIAN
BEGIN:VEVENT
UID:0c88378a-73b7-11f0-af76-02ee2af05cff
DTSTAMP:20260419T133009Z
SUMMARY:Bus Drill
URL;VALUE=URI:https://www.canastotacsd.org/calendar/8480020/bus-drill
DTSTART;VALUE=DATE:20260310
DTEND;VALUE=DATE:20260311
END:VEVENT
END:VCALENDAR
