BEGIN:VCALENDAR
VERSION:2.0
PRODID:SchoolNow
CALSCALE:GREGORIAN
BEGIN:VEVENT
UID:0c883a28-73b7-11f0-b06e-02ee2af05cff
DTSTAMP:20260419T133009Z
SUMMARY:Middle School 7-8 & High School MIOSM Band & Chorus Concert
URL;VALUE=URI:https://www.canastotacsd.org/calendar/8480023/middle-school-7
 -8-high-school-miosm-band-chorus-concert
DTSTART:20260318T230000Z
DTEND:20260319T000000Z
END:VEVENT
END:VCALENDAR
