BEGIN:VCALENDAR
VERSION:2.0
PRODID:SchoolNow
CALSCALE:GREGORIAN
BEGIN:VEVENT
UID:0c883b0e-73b7-11f0-9a4f-02ee2af05cff
DTSTAMP:20260419T133009Z
SUMMARY:SNOW DATE - High School MIOSM Band & Chorus Concert
URL;VALUE=URI:https://www.canastotacsd.org/calendar/8480024/snow-date-high-
 school-miosm-band-chorus-concert
DTSTART:20260319T230000Z
DTEND:20260320T000000Z
END:VEVENT
END:VCALENDAR
