BEGIN:VCALENDAR
VERSION:2.0
PRODID:SchoolNow
CALSCALE:GREGORIAN
BEGIN:VEVENT
UID:0c883bea-73b7-11f0-895c-02ee2af05cff
DTSTAMP:20260419T133009Z
SUMMARY:Superintendent's Conference Day
URL;VALUE=URI:https://www.canastotacsd.org/calendar/8480025/superintendents
 -conference-day
DTSTART;VALUE=DATE:20260320
DTEND;VALUE=DATE:20260321
END:VEVENT
END:VCALENDAR
