BEGIN:VCALENDAR
VERSION:2.0
PRODID:SchoolNow
CALSCALE:GREGORIAN
BEGIN:VEVENT
UID:0c883d2a-73b7-11f0-91d8-02ee2af05cff
DTSTAMP:20260419T133009Z
SUMMARY:Palm Sunday
URL;VALUE=URI:https://www.canastotacsd.org/calendar/8480026/palm-sunday
DTSTART;VALUE=DATE:20260329
DTEND;VALUE=DATE:20260330
END:VEVENT
END:VCALENDAR
