BEGIN:VCALENDAR
VERSION:2.0
PRODID:SchoolNow
CALSCALE:GREGORIAN
BEGIN:VEVENT
UID:0c883e1a-73b7-11f0-8d77-02ee2af05cff
DTSTAMP:20260419T133009Z
SUMMARY:Good Friday
URL;VALUE=URI:https://www.canastotacsd.org/calendar/8480027/good-friday
DTSTART;VALUE=DATE:20260403
DTEND;VALUE=DATE:20260404
END:VEVENT
END:VCALENDAR
