BEGIN:VCALENDAR
VERSION:2.0
PRODID:SchoolNow
CALSCALE:GREGORIAN
BEGIN:VEVENT
UID:0c883f00-73b7-11f0-bb85-02ee2af05cff
DTSTAMP:20260419T133009Z
SUMMARY:Spring Recess
URL;VALUE=URI:https://www.canastotacsd.org/calendar/8480028/spring-recess
DTSTART;VALUE=DATE:20260403
DTEND;VALUE=DATE:20260404
END:VEVENT
END:VCALENDAR
