BEGIN:VCALENDAR
VERSION:2.0
PRODID:SchoolNow
CALSCALE:GREGORIAN
BEGIN:VEVENT
UID:0c883fdc-73b7-11f0-8abf-02ee2af05cff
DTSTAMP:20260419T133009Z
SUMMARY:Easter
URL;VALUE=URI:https://www.canastotacsd.org/calendar/8480029/easter
DTSTART;VALUE=DATE:20260405
DTEND;VALUE=DATE:20260406
END:VEVENT
END:VCALENDAR
