BEGIN:VCALENDAR
VERSION:2.0
PRODID:SchoolNow
CALSCALE:GREGORIAN
BEGIN:VEVENT
UID:0c884d06-73b7-11f0-a593-02ee2af05cff
DTSTAMP:20260419T133009Z
SUMMARY:Junior Prom
URL;VALUE=URI:https://www.canastotacsd.org/calendar/8480037/junior-prom
DTSTART;VALUE=DATE:20260502
DTEND;VALUE=DATE:20260503
END:VEVENT
END:VCALENDAR
