BEGIN:VCALENDAR
VERSION:2.0
PRODID:SchoolNow
CALSCALE:GREGORIAN
BEGIN:VEVENT
UID:0c884df6-73b7-11f0-99ad-02ee2af05cff
DTSTAMP:20260419T133009Z
SUMMARY:Cinco de Mayo
URL;VALUE=URI:https://www.canastotacsd.org/calendar/8480038/cinco-de-mayo
DTSTART;VALUE=DATE:20260505
DTEND;VALUE=DATE:20260506
END:VEVENT
END:VCALENDAR
