BEGIN:VCALENDAR
VERSION:2.0
PRODID:SchoolNow
CALSCALE:GREGORIAN
BEGIN:VEVENT
UID:0c884edc-73b7-11f0-9659-02ee2af05cff
DTSTAMP:20260419T133009Z
SUMMARY:Science Grades Testing
URL;VALUE=URI:https://www.canastotacsd.org/calendar/8480039/science-grades-
 testing
DTSTART:20260508T210000Z
DTEND:20260509T000000Z
END:VEVENT
END:VCALENDAR
