BEGIN:VCALENDAR
VERSION:2.0
PRODID:SchoolNow
CALSCALE:GREGORIAN
BEGIN:VEVENT
UID:0c884fb8-73b7-11f0-99b8-02ee2af05cff
DTSTAMP:20260419T133009Z
SUMMARY:Mother's Day
URL;VALUE=URI:https://www.canastotacsd.org/calendar/8480040/mothers-day
DTSTART;VALUE=DATE:20260510
DTEND;VALUE=DATE:20260511
END:VEVENT
END:VCALENDAR
