BEGIN:VCALENDAR
VERSION:2.0
PRODID:SchoolNow
CALSCALE:GREGORIAN
BEGIN:VEVENT
UID:0c8850a8-73b7-11f0-956f-02ee2af05cff
DTSTAMP:20260419T133009Z
SUMMARY:Budget Hearing/Regular Meeting
URL;VALUE=URI:https://www.canastotacsd.org/calendar/8480041/budget-hearing-
 regular-meeting
DTSTART:20260512T220000Z
DTEND:20260512T230000Z
END:VEVENT
END:VCALENDAR
